BEGIN:VCALENDAR
VERSION:2.0
PRODID:-//GrowthNet Solutions - ECPv6.0.7.1//NONSGML v1.0//EN
CALSCALE:GREGORIAN
METHOD:PUBLISH
X-WR-CALNAME:GrowthNet Solutions
X-ORIGINAL-URL:https://growthnetsolutions.com
X-WR-CALDESC:Events for GrowthNet Solutions
REFRESH-INTERVAL;VALUE=DURATION:PT1H
X-Robots-Tag:noindex
X-PUBLISHED-TTL:PT1H
BEGIN:VTIMEZONE
TZID:UTC
BEGIN:STANDARD
TZOFFSETFROM:+0000
TZOFFSETTO:+0000
TZNAME:UTC
DTSTART:20170101T000000
END:STANDARD
END:VTIMEZONE
BEGIN:VEVENT
DTSTART;TZID=UTC:20170814T100000
DTEND;TZID=UTC:20170814T200000
DTSTAMP:20260420T120638
CREATED:20160922T153757Z
LAST-MODIFIED:20160924T105400Z
UID:316-1502704800-1502740800@growthnetsolutions.com
SUMMARY:Movie Marathon
DESCRIPTION:What’s the point of going out? We’re just going to wind up back here anyway. I’m going to the back seat of my car\, with the woman I love\, and I won’t be back for ten minutes! And now\, in the spirit of the season: start shopping. And for every dollar of Krusty merchandise you buy\, I will be nice to a sick kid. For legal purposes\, sick kids may include hookers with a cold. The Internet King? I wonder if he could provide faster nudity… Yes! I am a citizen! Now which way to the welfare office? I’m kidding\, I’m kidding. I work\, I work.
URL:https://growthnetsolutions.com/event/movie-marathon/
LOCATION:Winchester Mystery House\, 525 S Winchester Blvd\, San Jose\, CA\, 95128\, United States
CATEGORIES:Nightlife
END:VEVENT
BEGIN:VEVENT
DTSTART;VALUE=DATE:20170823
DTEND;VALUE=DATE:20170825
DTSTAMP:20260420T120638
CREATED:20160922T153758Z
LAST-MODIFIED:20160924T105435Z
UID:323-1503446400-1503619199@growthnetsolutions.com
SUMMARY:Farmer’s Market
DESCRIPTION:Who’s that then? Shh! Knights\, I bid you welcome to your new home. Let us ride to Camelot! Ah\, now we see the violence inherent in the system! The Lady of the Lake\, her arm clad in the purest shimmering samite\, held aloft Excalibur from the bosom of the water\, signifying by divine providence that I\, Arthur\, was to carry Excalibur. That is why I am your king. Camelot!
URL:https://growthnetsolutions.com/event/farmers-market/
LOCATION:Bamboo Fresh\, 655 Front St. #108\, Lahaina\, HI\, 96761\, United States
CATEGORIES:Meeting
END:VEVENT
BEGIN:VEVENT
DTSTART;TZID=UTC:20170901T200000
DTEND;TZID=UTC:20170901T200000
DTSTAMP:20260420T120638
CREATED:20160922T153758Z
LAST-MODIFIED:20160924T111924Z
UID:321-1504296000-1504296000@growthnetsolutions.com
SUMMARY:Rock Concert
DESCRIPTION:Hey\, Luke! May the Force be with you. Look\, I ain’t in this for your revolution\, and I’m not in it for you\, Princess. I expect to be well paid. I’m in it for the money. Ye-ha! What good is a reward if you ain’t around to use it? Besides\, attacking that battle station ain’t my idea of courage. It’s more like…suicide. Hey\, Luke! May the Force be with you. But with the blast shield down\, I can’t even see! How am I supposed to fight?
URL:https://growthnetsolutions.com/event/rock-concert/
LOCATION:Doug Fir Lounge\, 830 E. Burnside St.\, Portland\, OR\, 97214\, United States
CATEGORIES:Family Fun
ATTACH;FMTTYPE=image/jpeg:https://growthnetsolutions.com/wp-content/uploads/2016/09/gallery8-773x520.jpg
ORGANIZER;CN="Elvis%20Presley":MAILTO:rocknroll@hotmail.com
END:VEVENT
END:VCALENDAR